BEGIN:VCALENDAR
VERSION:2.0
PRODID:-//TYPO3/NONSGML Calendarize//EN
BEGIN:VEVENT
UID:calendarize-national-frosted-cookie-day-at-brownell-library
DTSTAMP:20260424T171628Z
DTSTART:20250610T193000Z
DTEND:20250610T203000Z
SUMMARY:National Frosted Cookie Day at Brownell Library
DESCRIPTION:
X-ALT-DESC;FMTTYPE=text/html:
LOCATION:Brownell Library
END:VEVENT
END:VCALENDAR
