BEGIN:VCALENDAR
VERSION:2.0
PRODID:-//TYPO3/NONSGML Calendarize//EN
BEGIN:VEVENT
UID:calendarize-must-read-mondays-at-brownell-library
DTSTAMP:20260419T200054Z
DTSTART:20260427T223000Z
DTEND:20260427T233000Z
SUMMARY:Must Read Mondays at Brownell Library
DESCRIPTION:in person and online - Set in Vermont's Green Mountains\, a pr
 ofoundly moving meditation on the lessons and wisdom that come from raisin
 g a family\, tending sheep\, and living close to the land. Contact the lib
 rary for login information.\n\n
X-ALT-DESC;FMTTYPE=text/html:<p><strong>in person and online - </strong>Se
 t in Vermont's Green Mountains\, a profoundly moving meditation on the les
 sons and wisdom that come from raising a family\, tending sheep\, and livi
 ng close to the land. Contact the library for login information.</p>\n\n
LOCATION:Brownell Library
END:VEVENT
END:VCALENDAR
