BEGIN:VCALENDAR
VERSION:2.0
PRODID:-//TYPO3/NONSGML Calendarize//EN
BEGIN:VEVENT
UID:calendarize-brownell-library-foundation-open-house
DTSTAMP:20260421T163452Z
DTSTART:20250412T150000Z
DTEND:20250412T170000Z
SUMMARY:Brownell Library Foundation Open House
DESCRIPTION:Come meet the members of the Brownell Library Foundation\, als
 o known as the Friends of the Brownell Library. Visit our table to learn m
 ore about our ongoing Book Sale and other projects.
X-ALT-DESC;FMTTYPE=text/html:<p>Come meet the members of the Brownell Libr
 ary Foundation\, also known as the Friends of the Brownell Library. Visit 
 our table to learn more about our ongoing Book Sale and other projects.</p
 >
LOCATION:Brownell Library
END:VEVENT
END:VCALENDAR
