BEGIN:VCALENDAR
VERSION:2.0
PRODID:-//TYPO3/NONSGML Calendarize//EN
BEGIN:VEVENT
UID:calendarize-baby-brunch
DTSTAMP:20260419T131951Z
DTSTART:20250906T143000Z
DTEND:20250906T153000Z
SUMMARY:Baby Brunch at Brownell Library
DESCRIPTION:Then you are invited to come to the library\, enjoy some food\
 , meet other babies and their caregivers\, find out more about 1000 Books 
 Before Kindergarten and receive a free board book.
X-ALT-DESC;FMTTYPE=text/html:<p>Then you are invited to come to the librar
 y\, enjoy some food\, meet other babies and their caregivers\, find out mo
 re about 1000 Books Before Kindergarten and receive a free board book.</p>
LOCATION:Brownell Library
END:VEVENT
END:VCALENDAR
