BEGIN:VCALENDAR
VERSION:2.0
PRODID:-//TYPO3/NONSGML Calendarize//EN
BEGIN:VEVENT
UID:calendarize-art-lab-at-brownell-library-1
DTSTAMP:20260424T175508Z
DTSTART:20260501T130000Z
DTEND:20260515T210000Z
SUMMARY:Art Lab at Brownell Library
DESCRIPTION:Let the wild rumpus start! Grab some pipe cleaners\, pom poms\
 , googly eyes\, and accessories and bring your own wild thing to life! Sto
 p by the youth desk to introduce us to your puppet\, and we’ll take a pi
 cture to display on the Winnie Belle windows. This program is made possibl
 e with support from the Winnie Bell Learned Fund and it is open to all age
 s!
X-ALT-DESC;FMTTYPE=text/html:<p>Let the wild rumpus start! Grab some pipe 
 cleaners\, pom poms\, googly eyes\, and accessories and bring your own wil
 d thing to life! Stop by the youth desk to introduce us to your puppet\, a
 nd we’ll take a picture to display on the Winnie Belle windows. This pro
 gram is made possible with support from the Winnie Bell Learned Fund and i
 t is open to all ages!</p>
LOCATION:Brownell Library
END:VEVENT
END:VCALENDAR
